Package: StabMap Version: 1.1.0 Command: /home/biocbuild/bbs-3.21-bioc/R/bin/R CMD check --install=check:StabMap.install-out.txt --library=/home/biocbuild/bbs-3.21-bioc/R/site-library --timings StabMap_1.1.0.tar.gz StartedAt: 2025-02-04 03:13:35 -0500 (Tue, 04 Feb 2025) EndedAt: 2025-02-04 03:22:10 -0500 (Tue, 04 Feb 2025) EllapsedTime: 514.7 seconds RetCode: 0 Status: OK CheckDir: StabMap.Rcheck Warnings: 0