Package: StabMap Version: 1.1.0 Command: /home/biocbuild/bbs-3.21-bioc/R/bin/R CMD INSTALL StabMap StartedAt: 2025-02-03 16:01:11 -0500 (Mon, 03 Feb 2025) EndedAt: 2025-02-03 16:01:32 -0500 (Mon, 03 Feb 2025) EllapsedTime: 20.6 seconds RetCode: 0 Status: OK