############################################################################## ############################################################################## ### ### Running command: ### ### rm -rf StabMap.buildbin-libdir && mkdir StabMap.buildbin-libdir && E:\biocbuild\bbs-3.21-bioc\R\bin\R.exe CMD INSTALL --build --library=StabMap.buildbin-libdir StabMap_1.1.0.tar.gz ### ############################################################################## ############################################################################## * installing *source* package 'StabMap' ... ** this is package 'StabMap' version '1.1.0' ** using staged installation ** R ** inst ** byte-compile and prepare package for lazy loading ** help *** installing help indices *** copying figures ** building package indices ** installing vignettes ** testing if installed package can be loaded from temporary location ** testing if installed package can be loaded from final location ** testing if installed package keeps a record of temporary installation path * MD5 sums packaged installation of 'StabMap' as StabMap_1.1.0.zip * DONE (StabMap)