Package: Statial Version: 1.9.0 Command: rm -rf Statial.buildbin-libdir && mkdir Statial.buildbin-libdir && /Users/biocbuild/BBS/utils/build-universal.sh Statial_1.9.0.tar.gz /Library/Frameworks/R.framework/Resources/bin/R Statial.buildbin-libdir StartedAt: 2025-01-30 22:31:35 -0500 (Thu, 30 Jan 2025) EndedAt: 2025-01-30 22:31:47 -0500 (Thu, 30 Jan 2025) EllapsedTime: 12.3 seconds RetCode: 0 Status: OK PackageFile: Statial_1.9.0.tgz PackageFileSize: 9.676 MiB