Package: Statial Version: 1.9.0 Command: /Library/Frameworks/R.framework/Resources/bin/R CMD check --install=check:Statial.install-out.txt --library=/Library/Frameworks/R.framework/Resources/library --no-vignettes --timings Statial_1.9.0.tar.gz StartedAt: 2025-01-30 21:36:55 -0500 (Thu, 30 Jan 2025) EndedAt: 2025-01-30 21:40:32 -0500 (Thu, 30 Jan 2025) EllapsedTime: 216.6 seconds RetCode: 0 Status: WARNINGS CheckDir: Statial.Rcheck Warnings: 1