Package: Statial Version: 1.9.0 Command: /home/biocbuild/R/R/bin/R CMD build --keep-empty-dirs --no-resave-data Statial StartedAt: 2025-01-28 02:45:55 -0000 (Tue, 28 Jan 2025) EndedAt: 2025-01-28 02:46:44 -0000 (Tue, 28 Jan 2025) EllapsedTime: 49.0 seconds RetCode: 1 Status: ERROR PackageFile: None PackageFileSize: NA