Package: Statial Version: 1.9.0 Command: rm -rf Statial.buildbin-libdir && mkdir Statial.buildbin-libdir && /Users/biocbuild/BBS/utils/build-universal.sh Statial_1.9.0.tar.gz /Library/Frameworks/R.framework/Resources/bin/R Statial.buildbin-libdir StartedAt: 2025-01-31 00:41:50 -0500 (Fri, 31 Jan 2025) EndedAt: 2025-01-31 00:42:29 -0500 (Fri, 31 Jan 2025) EllapsedTime: 38.7 seconds RetCode: 0 Status: OK PackageFile: Statial_1.9.0.tgz PackageFileSize: 9.675 MiB