Package: Statial Version: 1.9.0 Command: /Library/Frameworks/R.framework/Resources/bin/R CMD build --keep-empty-dirs --no-resave-data Statial StartedAt: 2025-02-04 18:29:41 -0500 (Tue, 04 Feb 2025) EndedAt: 2025-02-04 18:36:48 -0500 (Tue, 04 Feb 2025) EllapsedTime: 427.1 seconds RetCode: 1 Status: ERROR PackageFile: None PackageFileSize: NA