Package: Statial Version: 1.9.0 Command: /home/biocbuild/bbs-3.21-bioc/R/bin/R CMD build --keep-empty-dirs --no-resave-data Statial StartedAt: 2025-02-04 19:27:10 -0500 (Tue, 04 Feb 2025) EndedAt: 2025-02-04 19:33:43 -0500 (Tue, 04 Feb 2025) EllapsedTime: 392.7 seconds RetCode: 1 Status: ERROR PackageFile: None PackageFileSize: NA