Package: Statial Version: 1.9.0 Command: /home/biocbuild/bbs-3.21-bioc/R/bin/R CMD check --install=check:Statial.install-out.txt --library=/home/biocbuild/bbs-3.21-bioc/R/site-library --timings Statial_1.9.0.tar.gz StartedAt: 2025-01-31 02:56:22 -0500 (Fri, 31 Jan 2025) EndedAt: 2025-01-31 03:14:06 -0500 (Fri, 31 Jan 2025) EllapsedTime: 1064.6 seconds RetCode: 0 Status: WARNINGS CheckDir: Statial.Rcheck Warnings: 1