Package: Statial Version: 1.9.0 Command: rm -rf Statial.buildbin-libdir && mkdir Statial.buildbin-libdir && E:\biocbuild\bbs-3.21-bioc\R\bin\R.exe CMD INSTALL --build --library=Statial.buildbin-libdir Statial_1.9.0.tar.gz StartedAt: 2025-01-31 08:20:25 -0500 (Fri, 31 Jan 2025) EndedAt: 2025-01-31 08:21:07 -0500 (Fri, 31 Jan 2025) EllapsedTime: 41.8 seconds RetCode: 0 Status: OK PackageFile: Statial_1.9.0.zip PackageFileSize: 5.954 MiB