Package: Statial Version: 1.9.0 Command: chmod a+r Statial -R && E:\biocbuild\bbs-3.21-bioc\R\bin\R.exe CMD build --keep-empty-dirs --no-resave-data Statial StartedAt: 2025-02-09 21:57:25 -0500 (Sun, 09 Feb 2025) EndedAt: 2025-02-09 22:08:49 -0500 (Sun, 09 Feb 2025) EllapsedTime: 684.4 seconds RetCode: 1 Status: ERROR PackageFile: None PackageFileSize: NA