Package: Statial Version: 1.9.0 Command: E:\biocbuild\bbs-3.21-bioc\R\bin\R.exe CMD INSTALL Statial StartedAt: 2025-02-04 16:56:19 -0500 (Tue, 04 Feb 2025) EndedAt: 2025-02-04 16:56:53 -0500 (Tue, 04 Feb 2025) EllapsedTime: 34.0 seconds RetCode: 0 Status: OK