Package: Streamer Version: 1.53.0 Command: rm -rf Streamer.buildbin-libdir && mkdir Streamer.buildbin-libdir && /Users/biocbuild/BBS/utils/build-universal.sh Streamer_1.53.0.tar.gz /Library/Frameworks/R.framework/Resources/bin/R Streamer.buildbin-libdir StartedAt: 2025-02-12 22:37:48 -0500 (Wed, 12 Feb 2025) EndedAt: 2025-02-12 22:37:52 -0500 (Wed, 12 Feb 2025) EllapsedTime: 4.1 seconds RetCode: 0 Status: OK PackageFile: Streamer_1.53.0.tgz PackageFileSize: 552 KiB