Package: Streamer Version: 1.53.0 Command: /Library/Frameworks/R.framework/Resources/bin/R CMD INSTALL Streamer StartedAt: 2025-02-09 15:03:08 -0500 (Sun, 09 Feb 2025) EndedAt: 2025-02-09 15:03:17 -0500 (Sun, 09 Feb 2025) EllapsedTime: 8.7 seconds RetCode: 0 Status: OK