Package: Streamer Version: 1.53.0 Command: rm -rf Streamer.buildbin-libdir && mkdir Streamer.buildbin-libdir && /Users/biocbuild/BBS/utils/build-universal.sh Streamer_1.53.0.tar.gz /Library/Frameworks/R.framework/Resources/bin/R Streamer.buildbin-libdir StartedAt: 2025-02-10 01:19:16 -0500 (Mon, 10 Feb 2025) EndedAt: 2025-02-10 01:19:30 -0500 (Mon, 10 Feb 2025) EllapsedTime: 14.0 seconds RetCode: 0 Status: OK PackageFile: Streamer_1.53.0.tgz PackageFileSize: 551.4 KiB