Package: Streamer Version: 1.53.0 Command: rm -rf Streamer.buildbin-libdir && mkdir Streamer.buildbin-libdir && E:\biocbuild\bbs-3.21-bioc\R\bin\R.exe CMD INSTALL --build --library=Streamer.buildbin-libdir Streamer_1.53.0.tar.gz StartedAt: 2025-02-10 08:49:06 -0500 (Mon, 10 Feb 2025) EndedAt: 2025-02-10 08:49:47 -0500 (Mon, 10 Feb 2025) EllapsedTime: 40.5 seconds RetCode: 0 Status: OK PackageFile: Streamer_1.53.0.zip PackageFileSize: 555.7 KiB