Package: Streamer Version: 1.53.0 Command: chmod a+r Streamer -R && E:\biocbuild\bbs-3.21-bioc\R\bin\R.exe CMD build --keep-empty-dirs --no-resave-data Streamer StartedAt: 2025-02-09 21:57:47 -0500 (Sun, 09 Feb 2025) EndedAt: 2025-02-09 21:58:29 -0500 (Sun, 09 Feb 2025) EllapsedTime: 42.4 seconds RetCode: 0 Status: OK PackageFile: Streamer_1.53.0.tar.gz PackageFileSize: 135.1 KiB