Package: Streamer Version: 1.53.0 Command: E:\biocbuild\bbs-3.21-bioc\R\bin\R.exe CMD INSTALL Streamer StartedAt: 2025-02-09 15:27:32 -0500 (Sun, 09 Feb 2025) EndedAt: 2025-02-09 15:28:16 -0500 (Sun, 09 Feb 2025) EllapsedTime: 44.7 seconds RetCode: 0 Status: OK