Package: StructuralVariantAnnotation Version: 1.23.0 Command: rm -rf StructuralVariantAnnotation.buildbin-libdir && mkdir StructuralVariantAnnotation.buildbin-libdir && /Users/biocbuild/BBS/utils/build-universal.sh StructuralVariantAnnotation_1.23.0.tar.gz /Library/Frameworks/R.framework/Resources/bin/R StructuralVariantAnnotation.buildbin-libdir StartedAt: 2025-02-05 22:37:35 -0500 (Wed, 05 Feb 2025) EndedAt: 2025-02-05 22:37:53 -0500 (Wed, 05 Feb 2025) EllapsedTime: 18.4 seconds RetCode: 0 Status: OK PackageFile: StructuralVariantAnnotation_1.23.0.tgz PackageFileSize: 1.071 MiB