Package: StructuralVariantAnnotation Version: 1.23.0 Command: /Library/Frameworks/R.framework/Resources/bin/R CMD build --keep-empty-dirs --no-resave-data StructuralVariantAnnotation StartedAt: 2025-02-05 17:47:52 -0500 (Wed, 05 Feb 2025) EndedAt: 2025-02-05 17:48:23 -0500 (Wed, 05 Feb 2025) EllapsedTime: 30.3 seconds RetCode: 0 Status: OK PackageFile: StructuralVariantAnnotation_1.23.0.tar.gz PackageFileSize: 962.4 KiB