Package: StructuralVariantAnnotation Version: 1.23.0 Command: /Library/Frameworks/R.framework/Resources/bin/R CMD INSTALL StructuralVariantAnnotation StartedAt: 2025-02-05 15:11:13 -0500 (Wed, 05 Feb 2025) EndedAt: 2025-02-05 15:11:29 -0500 (Wed, 05 Feb 2025) EllapsedTime: 16.4 seconds RetCode: 0 Status: OK