Package: StructuralVariantAnnotation Version: 1.23.0 Command: /home/biocbuild/R/R/bin/R CMD build --keep-empty-dirs --no-resave-data StructuralVariantAnnotation StartedAt: 2025-01-28 02:47:15 -0000 (Tue, 28 Jan 2025) EndedAt: 2025-01-28 02:49:07 -0000 (Tue, 28 Jan 2025) EllapsedTime: 112.0 seconds RetCode: 0 Status: OK PackageFile: StructuralVariantAnnotation_1.23.0.tar.gz PackageFileSize: 825.2 KiB