Package: StructuralVariantAnnotation Version: 1.23.0 Command: rm -rf StructuralVariantAnnotation.buildbin-libdir && mkdir StructuralVariantAnnotation.buildbin-libdir && E:\biocbuild\bbs-3.21-bioc\R\bin\R.exe CMD INSTALL --build --library=StructuralVariantAnnotation.buildbin-libdir StructuralVariantAnnotation_1.23.0.tar.gz StartedAt: 2025-02-06 09:09:11 -0500 (Thu, 06 Feb 2025) EndedAt: 2025-02-06 09:20:10 -0500 (Thu, 06 Feb 2025) EllapsedTime: 659.1 seconds RetCode: 0 Status: OK PackageFile: StructuralVariantAnnotation_1.23.0.zip PackageFileSize: 817.4 KiB