Package: StructuralVariantAnnotation Version: 1.23.0 Command: E:\biocbuild\bbs-3.21-bioc\R\bin\R.exe CMD check --no-multiarch --install=check:StructuralVariantAnnotation.install-out.txt --library=E:\biocbuild\bbs-3.21-bioc\R\library --no-vignettes --timings StructuralVariantAnnotation_1.23.0.tar.gz StartedAt: 2025-02-06 06:25:48 -0500 (Thu, 06 Feb 2025) EndedAt: 2025-02-06 06:35:17 -0500 (Thu, 06 Feb 2025) EllapsedTime: 568.6 seconds RetCode: 0 Status: OK CheckDir: StructuralVariantAnnotation.Rcheck Warnings: 0