Package: SubCellBarCode Version: 1.23.0 Command: /Library/Frameworks/R.framework/Resources/bin/R CMD build --keep-empty-dirs --no-resave-data SubCellBarCode StartedAt: 2025-02-09 17:45:17 -0500 (Sun, 09 Feb 2025) EndedAt: 2025-02-09 17:46:53 -0500 (Sun, 09 Feb 2025) EllapsedTime: 96.1 seconds RetCode: 0 Status: OK PackageFile: SubCellBarCode_1.23.0.tar.gz PackageFileSize: 2.352 MiB