Package: SubCellBarCode Version: 1.23.0 Command: /Library/Frameworks/R.framework/Resources/bin/R CMD build --keep-empty-dirs --no-resave-data SubCellBarCode StartedAt: 2025-02-09 18:39:03 -0500 (Sun, 09 Feb 2025) EndedAt: 2025-02-09 18:43:06 -0500 (Sun, 09 Feb 2025) EllapsedTime: 242.8 seconds RetCode: 0 Status: OK PackageFile: SubCellBarCode_1.23.0.tar.gz PackageFileSize: 2.356 MiB