Package: SubCellBarCode Version: 1.23.0 Command: rm -rf SubCellBarCode.buildbin-libdir && mkdir SubCellBarCode.buildbin-libdir && E:\biocbuild\bbs-3.21-bioc\R\bin\R.exe CMD INSTALL --build --library=SubCellBarCode.buildbin-libdir SubCellBarCode_1.23.0.tar.gz StartedAt: 2025-02-10 08:49:18 -0500 (Mon, 10 Feb 2025) EndedAt: 2025-02-10 08:50:05 -0500 (Mon, 10 Feb 2025) EllapsedTime: 47.1 seconds RetCode: 0 Status: OK PackageFile: SubCellBarCode_1.23.0.zip PackageFileSize: 1.741 MiB