Package: SummarizedExperiment Version: 1.37.0 Command: /Library/Frameworks/R.framework/Resources/bin/R CMD check --install=check:SummarizedExperiment.install-out.txt --library=/Library/Frameworks/R.framework/Resources/library --no-vignettes --timings SummarizedExperiment_1.37.0.tar.gz StartedAt: 2025-02-04 21:40:53 -0500 (Tue, 04 Feb 2025) EndedAt: 2025-02-04 21:42:04 -0500 (Tue, 04 Feb 2025) EllapsedTime: 70.9 seconds RetCode: 0 Status: OK CheckDir: SummarizedExperiment.Rcheck Warnings: 0