Package: SummarizedExperiment Version: 1.37.0 Command: /home/biocbuild/R/R/bin/R CMD build --keep-empty-dirs --no-resave-data SummarizedExperiment StartedAt: 2025-01-28 02:47:51 -0000 (Tue, 28 Jan 2025) EndedAt: 2025-01-28 02:48:55 -0000 (Tue, 28 Jan 2025) EllapsedTime: 64.0 seconds RetCode: 0 Status: OK PackageFile: SummarizedExperiment_1.37.0.tar.gz PackageFileSize: 762.1 KiB