Package: SummarizedExperiment Version: 1.37.0 Command: /home/biocbuild/R/R/bin/R CMD INSTALL SummarizedExperiment StartedAt: 2025-01-29 19:38:39 -0000 (Wed, 29 Jan 2025) EndedAt: 2025-01-29 19:39:17 -0000 (Wed, 29 Jan 2025) EllapsedTime: 38.6 seconds RetCode: 0 Status: OK