Package: SummarizedExperiment Version: 1.37.0 Command: /Library/Frameworks/R.framework/Resources/bin/R CMD build --keep-empty-dirs --no-resave-data SummarizedExperiment StartedAt: 2025-02-04 18:30:36 -0500 (Tue, 04 Feb 2025) EndedAt: 2025-02-04 18:31:35 -0500 (Tue, 04 Feb 2025) EllapsedTime: 58.2 seconds RetCode: 0 Status: OK PackageFile: SummarizedExperiment_1.37.0.tar.gz PackageFileSize: 672.6 KiB