Package: SummarizedExperiment Version: 1.37.0 Command: /Library/Frameworks/R.framework/Resources/bin/R CMD INSTALL SummarizedExperiment StartedAt: 2025-02-04 15:09:19 -0500 (Tue, 04 Feb 2025) EndedAt: 2025-02-04 15:09:56 -0500 (Tue, 04 Feb 2025) EllapsedTime: 37.4 seconds RetCode: 0 Status: OK