Package: SummarizedExperiment Version: 1.37.0 Command: /home/biocbuild/bbs-3.21-bioc/R/bin/R CMD build --keep-empty-dirs --no-resave-data SummarizedExperiment StartedAt: 2025-02-04 19:28:27 -0500 (Tue, 04 Feb 2025) EndedAt: 2025-02-04 19:29:13 -0500 (Tue, 04 Feb 2025) EllapsedTime: 46.1 seconds RetCode: 0 Status: OK PackageFile: SummarizedExperiment_1.37.0.tar.gz PackageFileSize: 672.8 KiB