Package: SummarizedExperiment Version: 1.37.0 Command: rm -rf SummarizedExperiment.buildbin-libdir && mkdir SummarizedExperiment.buildbin-libdir && E:\biocbuild\bbs-3.21-bioc\R\bin\R.exe CMD INSTALL --build --library=SummarizedExperiment.buildbin-libdir SummarizedExperiment_1.37.0.tar.gz StartedAt: 2025-02-05 09:02:15 -0500 (Wed, 05 Feb 2025) EndedAt: 2025-02-05 09:06:39 -0500 (Wed, 05 Feb 2025) EllapsedTime: 264.6 seconds RetCode: 0 Status: OK PackageFile: SummarizedExperiment_1.37.0.zip PackageFileSize: 1.914 MiB