Package: SummarizedExperiment Version: 1.37.0 Command: chmod a+r SummarizedExperiment -R && E:\biocbuild\bbs-3.21-bioc\R\bin\R.exe CMD build --keep-empty-dirs --no-resave-data SummarizedExperiment StartedAt: 2025-02-04 22:00:56 -0500 (Tue, 04 Feb 2025) EndedAt: 2025-02-04 22:02:38 -0500 (Tue, 04 Feb 2025) EllapsedTime: 102.6 seconds RetCode: 0 Status: OK PackageFile: SummarizedExperiment_1.37.0.tar.gz PackageFileSize: 673.7 KiB