Package: SummarizedExperiment Version: 1.37.0 Command: E:\biocbuild\bbs-3.21-bioc\R\bin\R.exe CMD check --no-multiarch --install=check:SummarizedExperiment.install-out.txt --library=E:\biocbuild\bbs-3.21-bioc\R\library --no-vignettes --timings SummarizedExperiment_1.37.0.tar.gz StartedAt: 2025-02-05 06:22:38 -0500 (Wed, 05 Feb 2025) EndedAt: 2025-02-05 06:26:34 -0500 (Wed, 05 Feb 2025) EllapsedTime: 235.5 seconds RetCode: 0 Status: OK CheckDir: SummarizedExperiment.Rcheck Warnings: 0