Package: SummarizedExperiment Version: 1.37.0 Command: E:\biocbuild\bbs-3.21-bioc\R\bin\R.exe CMD INSTALL SummarizedExperiment StartedAt: 2025-02-04 15:36:44 -0500 (Tue, 04 Feb 2025) EndedAt: 2025-02-04 15:42:21 -0500 (Tue, 04 Feb 2025) EllapsedTime: 336.3 seconds RetCode: 0 Status: OK