Package: Summix Version: 2.13.0 Command: /Library/Frameworks/R.framework/Resources/bin/R CMD check --install=check:Summix.install-out.txt --library=/Library/Frameworks/R.framework/Resources/library --no-vignettes --timings Summix_2.13.0.tar.gz StartedAt: 2025-02-12 21:44:21 -0500 (Wed, 12 Feb 2025) EndedAt: 2025-02-12 21:44:48 -0500 (Wed, 12 Feb 2025) EllapsedTime: 27.3 seconds RetCode: 0 Status: OK CheckDir: Summix.Rcheck Warnings: 0