Package: Summix Version: 2.13.0 Command: rm -rf Summix.buildbin-libdir && mkdir Summix.buildbin-libdir && /Users/biocbuild/BBS/utils/build-universal.sh Summix_2.13.0.tar.gz /Library/Frameworks/R.framework/Resources/bin/R Summix.buildbin-libdir StartedAt: 2025-02-10 01:19:26 -0500 (Mon, 10 Feb 2025) EndedAt: 2025-02-10 01:19:41 -0500 (Mon, 10 Feb 2025) EllapsedTime: 15.1 seconds RetCode: 0 Status: OK PackageFile: Summix_2.13.0.tgz PackageFileSize: 353.8 KiB