Package: Summix Version: 2.13.0 Command: /Library/Frameworks/R.framework/Resources/bin/R CMD check --install=check:Summix.install-out.txt --library=/Library/Frameworks/R.framework/Resources/library --no-vignettes --timings Summix_2.13.0.tar.gz StartedAt: 2025-02-09 23:59:02 -0500 (Sun, 09 Feb 2025) EndedAt: 2025-02-10 00:00:23 -0500 (Mon, 10 Feb 2025) EllapsedTime: 80.4 seconds RetCode: 0 Status: OK CheckDir: Summix.Rcheck Warnings: 0