Package: Summix Version: 2.13.0 Command: /Library/Frameworks/R.framework/Resources/bin/R CMD INSTALL Summix StartedAt: 2025-02-03 15:29:12 -0500 (Mon, 03 Feb 2025) EndedAt: 2025-02-03 15:29:25 -0500 (Mon, 03 Feb 2025) EllapsedTime: 13.3 seconds RetCode: 0 Status: OK