Package: Summix Version: 2.13.0 Command: /home/biocbuild/bbs-3.21-bioc/R/bin/R CMD build --keep-empty-dirs --no-resave-data Summix StartedAt: 2025-02-09 19:31:01 -0500 (Sun, 09 Feb 2025) EndedAt: 2025-02-09 19:31:14 -0500 (Sun, 09 Feb 2025) EllapsedTime: 13.0 seconds RetCode: 0 Status: OK PackageFile: Summix_2.13.0.tar.gz PackageFileSize: 1.254 MiB