Package: Summix Version: 2.13.0 Command: /home/biocbuild/bbs-3.21-bioc/R/bin/R CMD check --install=check:Summix.install-out.txt --library=/home/biocbuild/bbs-3.21-bioc/R/site-library --timings Summix_2.13.0.tar.gz StartedAt: 2025-02-10 03:11:15 -0500 (Mon, 10 Feb 2025) EndedAt: 2025-02-10 03:12:22 -0500 (Mon, 10 Feb 2025) EllapsedTime: 67.1 seconds RetCode: 0 Status: OK CheckDir: Summix.Rcheck Warnings: 0