Package: Summix Version: 2.13.0 Command: rm -rf Summix.buildbin-libdir && mkdir Summix.buildbin-libdir && E:\biocbuild\bbs-3.21-bioc\R\bin\R.exe CMD INSTALL --build --library=Summix.buildbin-libdir Summix_2.13.0.tar.gz StartedAt: 2025-02-10 08:49:27 -0500 (Mon, 10 Feb 2025) EndedAt: 2025-02-10 08:49:45 -0500 (Mon, 10 Feb 2025) EllapsedTime: 17.9 seconds RetCode: 0 Status: OK PackageFile: Summix_2.13.0.zip PackageFileSize: 356.8 KiB