Package: SurfR Version: 1.3.6 Command: rm -rf SurfR.buildbin-libdir && mkdir SurfR.buildbin-libdir && /Users/biocbuild/BBS/utils/build-universal.sh SurfR_1.3.6.tar.gz /Library/Frameworks/R.framework/Resources/bin/R SurfR.buildbin-libdir StartedAt: 2025-02-05 22:37:39 -0500 (Wed, 05 Feb 2025) EndedAt: 2025-02-05 22:37:56 -0500 (Wed, 05 Feb 2025) EllapsedTime: 17.3 seconds RetCode: 0 Status: OK PackageFile: SurfR_1.3.6.tgz PackageFileSize: 446.3 KiB