Package: SurfR Version: 1.3.6 Command: /Library/Frameworks/R.framework/Resources/bin/R CMD check --install=check:SurfR.install-out.txt --library=/Library/Frameworks/R.framework/Resources/library --no-vignettes --timings SurfR_1.3.6.tar.gz StartedAt: 2025-02-05 21:44:15 -0500 (Wed, 05 Feb 2025) EndedAt: 2025-02-05 21:46:24 -0500 (Wed, 05 Feb 2025) EllapsedTime: 128.6 seconds RetCode: 1 Status: ERROR CheckDir: SurfR.Rcheck Warnings: NA