Package: SurfR Version: 1.3.6 Command: /Library/Frameworks/R.framework/Resources/bin/R CMD INSTALL SurfR StartedAt: 2025-02-05 15:26:48 -0500 (Wed, 05 Feb 2025) EndedAt: 2025-02-05 15:27:04 -0500 (Wed, 05 Feb 2025) EllapsedTime: 15.7 seconds RetCode: 0 Status: OK