Package: SurfR Version: 1.3.6 Command: /home/biocbuild/R/R/bin/R CMD check --install=check:SurfR.install-out.txt --library=/home/biocbuild/R/R/site-library --no-vignettes --timings SurfR_1.3.6.tar.gz StartedAt: 2025-01-28 15:53:36 -0000 (Tue, 28 Jan 2025) EndedAt: 2025-01-28 16:00:21 -0000 (Tue, 28 Jan 2025) EllapsedTime: 405.7 seconds RetCode: 0 Status: WARNINGS CheckDir: SurfR.Rcheck Warnings: 5