Package: SurfR Version: 1.3.6 Command: /home/biocbuild/R/R/bin/R CMD INSTALL SurfR StartedAt: 2025-01-29 20:31:43 -0000 (Wed, 29 Jan 2025) EndedAt: 2025-01-29 20:32:38 -0000 (Wed, 29 Jan 2025) EllapsedTime: 55.7 seconds RetCode: 0 Status: OK